BEGIN:VCALENDAR
VERSION:2.0
PRODID:-//American Academy of Sleep Medicine – Association for Sleep Clinicians and Researchers - ECPv6.8.2//NONSGML v1.0//EN
CALSCALE:GREGORIAN
METHOD:PUBLISH
X-ORIGINAL-URL:https://aasm.org
X-WR-CALDESC:Events for American Academy of Sleep Medicine – Association for Sleep Clinicians and Researchers
REFRESH-INTERVAL;VALUE=DURATION:PT1H
X-Robots-Tag:noindex
X-PUBLISHED-TTL:PT1H
BEGIN:VTIMEZONE
TZID:America/New_York
BEGIN:DAYLIGHT
TZOFFSETFROM:-0500
TZOFFSETTO:-0400
TZNAME:EDT
DTSTART:20250309T070000
END:DAYLIGHT
BEGIN:STANDARD
TZOFFSETFROM:-0400
TZOFFSETTO:-0500
TZNAME:EST
DTSTART:20251102T060000
END:STANDARD
END:VTIMEZONE
BEGIN:VEVENT
DTSTART;TZID=America/New_York:20250404T130000
DTEND;TZID=America/New_York:20250404T140000
DTSTAMP:20260423T044151
CREATED:20250310T173633Z
LAST-MODIFIED:20260226T190308Z
UID:46243-1743771600-1743775200@aasm.org
SUMMARY:Webinar - Prescribing Tirzepatide for OSA: Practical Implementation and Challenges
DESCRIPTION:This is a members-only webinar. Please log in or sign up to continue. \nSince the introduction of using tirzepatide for patients with obstructive sleep apnea\, AASM members have been given details about the drugs but have been missing the practical application of prescribing it in-clinic. This webinar will aim to help sleep medicine clinicians better understand when and how to prescribe the recently approved obesity medication tirzepatide for patients with a diagnosis of obstructive sleep apnea. \n\n\n\n    \n    Login and Register Page\n    \n\n\n\n    \n        Log In\n        Join Today\n    \n\n    \n        If you're already logged in and still cannot access this content\, you may need to renew your membership.
URL:https://aasm.org/event/webinar-prescribing-tirzepatide-for-osa-practical-implementation-and-challenges/
LOCATION:Online
CATEGORIES:Obesity Management Association
ATTACH;FMTTYPE=image/png:https://aasm.org/wp-content/uploads/2025/03/AprilCommittee_AASM-event_790x480-2.png
END:VEVENT
BEGIN:VEVENT
DTSTART;TZID=America/New_York:20250408T150000
DTEND;TZID=America/New_York:20250408T160000
DTSTAMP:20260423T044151
CREATED:20250313T215401Z
LAST-MODIFIED:20251003T174146Z
UID:46302-1744124400-1744128000@aasm.org
SUMMARY:Losing when You're Not Snoozing: Identifying and Combating Fatigue
DESCRIPTION:This webinar is essential for anyone looking to optimize performance\, avoid costly mistakes\, and improve overall well-being. Sleep deprivation impairs focus\, decision-making\, and memory\, leading to reduced productivity and increased errors—especially in high-stakes fields. Understanding the science behind fatigue can help students and professionals enhance learning\, boost cognitive function\, and maintain long-term health. Attendees will gain practical strategies to improve sleep quality\, manage fatigue\, and sustain peak performance in their academic\, professional\, and personal lives. The presentation will be followed by a Q&A. \nSpeaker\nMelissa Knauert\, MD\, PhD\nYale School of Medicine \nWatch Recording
URL:https://aasm.org/event/losing-when-youre-not-snoozing-identifying-and-combating-fatigue/
LOCATION:Online
ATTACH;FMTTYPE=image/jpeg:https://aasm.org/wp-content/uploads/2025/03/AASM_Losing-When-Youre-Not-Snoozing_WebAds_aasm_event_790x480.jpg
END:VEVENT
BEGIN:VEVENT
DTSTART;TZID=America/New_York:20250410T220000
DTEND;TZID=America/New_York:20250410T230000
DTSTAMP:20260423T044151
CREATED:20250313T224939Z
LAST-MODIFIED:20250623T175331Z
UID:46305-1744322400-1744326000@aasm.org
SUMMARY:Melatonin for Children and Adolescents: Insights from the US and Australia
DESCRIPTION:Hosted by the AASM International Assembly\nApril 10: 10:00 PM EDT\nApril 11: 12:00 PM AEST \nThis joint AASM-Australasian Sleep Association (ASA) webinar will provide an overview of the existing literature regarding melatonin use in children and adolescents and discuss the indications for use in different sub-populations. It will highlight how practice vary in different countries\, illustrating this with the US and Australian experiences and discuss the current concerns and challenges around melatonin use in children and adolescents. \nSpeakers\nMoya Vandeleur\, MB BCh BAO MRCPCH FRACP PhD (Australia)\nJudith Owens\, MD\, MPH (US) \nWatch Recording
URL:https://aasm.org/event/melatonin-for-children-and-adolescents-insights-from-the-us-and-australia/
LOCATION:Online
ATTACH;FMTTYPE=image/png:https://aasm.org/wp-content/uploads/2025/03/aasm_event_790x480-1.png
END:VEVENT
BEGIN:VEVENT
DTSTART;TZID=America/New_York:20250416T130000
DTEND;TZID=America/New_York:20250416T134500
DTSTAMP:20260423T044151
CREATED:20250313T190544Z
LAST-MODIFIED:20250418T155344Z
UID:46288-1744808400-1744811100@aasm.org
SUMMARY:Insomnia and Pregnancy: Helping Moms Sleep Better
DESCRIPTION:This grand round lecture will feature David Kalmbach\, PhD\, and treating pregnant women with perinatal insomnia and rumination through digitally-delivered CBT-I. Learners should attend the seminar series to understand practice and sleep health gaps\, and how the AASM Foundation-funded work addressed those gaps through project findings. \nWatch Recording
URL:https://aasm.org/event/insomnia-and-pregnancy-helping-moms-sleep-better/
LOCATION:Online
ATTACH;FMTTYPE=image/jpeg:https://aasm.org/wp-content/uploads/2025/03/AASMFoundation_SGR_March_David_Kalbach_aasm_event_790x480.jpg
ORGANIZER;CN="American Academy of Sleep Medicine Foundation":MAILTO:foundation@aasm.org
END:VEVENT
END:VCALENDAR