BEGIN:VCALENDAR
VERSION:2.0
PRODID:-//American Academy of Sleep Medicine – Association for Sleep Clinicians and Researchers - ECPv6.8.2//NONSGML v1.0//EN
CALSCALE:GREGORIAN
METHOD:PUBLISH
X-WR-CALNAME:American Academy of Sleep Medicine – Association for Sleep Clinicians and Researchers
X-ORIGINAL-URL:https://aasm.org
X-WR-CALDESC:Events for American Academy of Sleep Medicine – Association for Sleep Clinicians and Researchers
REFRESH-INTERVAL;VALUE=DURATION:PT1H
X-Robots-Tag:noindex
X-PUBLISHED-TTL:PT1H
BEGIN:VTIMEZONE
TZID:America/New_York
BEGIN:DAYLIGHT
TZOFFSETFROM:-0500
TZOFFSETTO:-0400
TZNAME:EDT
DTSTART:20260308T070000
END:DAYLIGHT
BEGIN:STANDARD
TZOFFSETFROM:-0400
TZOFFSETTO:-0500
TZNAME:EST
DTSTART:20261101T060000
END:STANDARD
BEGIN:DAYLIGHT
TZOFFSETFROM:-0500
TZOFFSETTO:-0400
TZNAME:EDT
DTSTART:20270314T070000
END:DAYLIGHT
BEGIN:STANDARD
TZOFFSETFROM:-0400
TZOFFSETTO:-0500
TZNAME:EST
DTSTART:20271107T060000
END:STANDARD
BEGIN:DAYLIGHT
TZOFFSETFROM:-0500
TZOFFSETTO:-0400
TZNAME:EDT
DTSTART:20280312T070000
END:DAYLIGHT
BEGIN:STANDARD
TZOFFSETFROM:-0400
TZOFFSETTO:-0500
TZNAME:EST
DTSTART:20281105T060000
END:STANDARD
BEGIN:DAYLIGHT
TZOFFSETFROM:-0500
TZOFFSETTO:-0400
TZNAME:EDT
DTSTART:20290311T070000
END:DAYLIGHT
BEGIN:STANDARD
TZOFFSETFROM:-0400
TZOFFSETTO:-0500
TZNAME:EST
DTSTART:20291104T060000
END:STANDARD
TZID:America/Denver
BEGIN:DAYLIGHT
TZOFFSETFROM:-0700
TZOFFSETTO:-0600
TZNAME:MDT
DTSTART:20270314T090000
END:DAYLIGHT
BEGIN:STANDARD
TZOFFSETFROM:-0600
TZOFFSETTO:-0700
TZNAME:MST
DTSTART:20271107T080000
END:STANDARD
END:VTIMEZONE
BEGIN:VEVENT
DTSTART;TZID=America/New_York:20260614T080000
DTEND;TZID=America/New_York:20260617T170000
DTSTAMP:20260425T225511
CREATED:20230321T140852Z
LAST-MODIFIED:20260317T131720Z
UID:34810-1781424000-1781715600@aasm.org
SUMMARY:SLEEP 2026
DESCRIPTION:Join us in Baltimore for SLEEP 2026\, the 40th annual meeting of the Associated Professional Sleep Societies\, LLC (APSS)\, a joint venture of the American Academy of Sleep Medicine (AASM) and the Sleep Research Society (SRS). Ticketed postgraduate courses will be available Saturday and Sunday\, June 13 and 14\, and the general session will take place Sunday through Wednesday\, June 14 to 17. Join us for the premier meeting in clinical sleep medicine and sleep and circadian science! \nRegister Now
URL:https://aasm.org/event/sleep-2026/
LOCATION:Baltimore Convention Center\, 1 W Pratt St\, Baltimore\, MD\, 21201\, United States
ATTACH;FMTTYPE=image/png:https://aasm.org/wp-content/uploads/2026/03/SLEEP26_May-Discount_aasm-event_790x480.png
ORGANIZER;CN="APSS":MAILTO:info@sleepmeeting.org
END:VEVENT
BEGIN:VEVENT
DTSTART;TZID=America/New_York:20260614T170000
DTEND;TZID=America/New_York:20260614T191500
DTSTAMP:20260425T225511
CREATED:20260416T204051Z
LAST-MODIFIED:20260423T161713Z
UID:51993-1781456400-1781464500@aasm.org
SUMMARY:AASM Kickoff to SLEEP
DESCRIPTION:Join us for the AASM’s networking reception and kickoff session at SLEEP! Connect with colleagues over drinks and be inspired by keynote speaker Angela Duckworth\, PhD\, Author of “Grit: The Power of Passion and Perseverance.” FREE general admission for AASM members. \nTickets are still available to upgrade to a premium experience with front-row seating\, a signed copy of “Grit\,” and exclusive access to a live meet and greet with Dr. Duckworth. \nPremium Admission: 5:00 pm – 8:00 pm \nRegister Now
URL:https://aasm.org/event/aasm-kickoff-to-sleep/
LOCATION:Hilton Baltimore\, 401 W Pratt St\, Baltimore\, MD\, 21201\, United States
ATTACH;FMTTYPE=image/png:https://aasm.org/wp-content/uploads/2026/04/SLEEP2026_Kick-Off_Key-Speaker_Web-AdsSLEEP2026_Kickoff-Keynote_aasm_event_790x480.png
END:VEVENT
BEGIN:VEVENT
DTSTART;VALUE=DATE:20270205
DTEND;VALUE=DATE:20270208
DTSTAMP:20260425T225511
CREATED:20250110T181519Z
LAST-MODIFIED:20250127T190307Z
UID:45396-1801785600-1802044799@aasm.org
SUMMARY:Sleep Medicine Trends 2027
DESCRIPTION:Save the date and make plans to join us Feb. 5-7 at the M Resort\, Spa and Casino for Sleep Medicine Trends 2027! Together\, we will explore new strategies for patient care and learn about the emerging technologies and innovations that are making an impact on clinical sleep medicine.
URL:https://aasm.org/event/sleep-medicine-trends-2027/
LOCATION:M Resort\, Spa and Casino\, 12300 Las Vegas Blvd S\, Henderson\, NV\, 89044\, United States
ATTACH;FMTTYPE=image/jpeg:https://aasm.org/wp-content/uploads/2025/01/event-photoslas-vegas_Trends.jpg
END:VEVENT
BEGIN:VEVENT
DTSTART;TZID=America/Denver:20270606T080000
DTEND;TZID=America/Denver:20270609T170000
DTSTAMP:20260425T225511
CREATED:20230516T203747Z
LAST-MODIFIED:20240626T135722Z
UID:34987-1812268800-1812560400@aasm.org
SUMMARY:SLEEP 2027
DESCRIPTION:Save the date and make plans to join us in Denver for SLEEP 2027\, the 41st annual meeting of the Associated Professional Sleep Societies\, LLC (APSS)\, a joint venture of the American Academy of Sleep Medicine (AASM) and the Sleep Research Society (SRS). Ticketed postgraduate courses will be available Saturday and Sunday\, June 5 and 6\, and the general session will take place Sunday through Wednesday\, June 6 to 9. Registration will open in January 2027. Join us for the premier meeting in clinical sleep medicine and sleep and circadian science!
URL:https://aasm.org/event/sleep-2027/
LOCATION:Colorado Convention Center\, 700 14th St\, Denver\, CO\, 80202\, United States
ATTACH;FMTTYPE=image/jpeg:https://aasm.org/wp-content/uploads/2023/05/Denver-Convention-Center.jpg
ORGANIZER;CN="APSS":MAILTO:info@sleepmeeting.org
END:VEVENT
BEGIN:VEVENT
DTSTART;TZID=America/New_York:20290603T080000
DTEND;TZID=America/New_York:20290606T170000
DTSTAMP:20260425T225511
CREATED:20250529T172947Z
LAST-MODIFIED:20250529T172947Z
UID:47326-1875168000-1875459600@aasm.org
SUMMARY:SLEEP 2029
DESCRIPTION:Save the date and make plans to join us in Columbus\, for SLEEP 2029\, the 43rd annual meeting of the Associated Professional Sleep Societies\, LLC (APSS)\, a joint venture of the American Academy of Sleep Medicine (AASM) and the Sleep Research Society (SRS). Ticketed postgraduate courses will be available Saturday and Sunday\, June 2 and 3\, and the general session will take place Sunday through Wednesday\, June 3 to 6. Registration will open in January 2029. Join us for the premier meeting in clinical sleep medicine and sleep and circadian science!
URL:https://aasm.org/event/sleep-2029/
LOCATION:Greater Columbus Convention Center\, 400 North High Street\, Columbus\, OH\, 43215\, United States
ATTACH;FMTTYPE=image/png:https://aasm.org/wp-content/uploads/2025/05/SLEEP-2029-Save-the-Date-Event-Image.png
ORGANIZER;CN="APSS":MAILTO:info@sleepmeeting.org
END:VEVENT
END:VCALENDAR