BEGIN:VCALENDAR
VERSION:2.0
PRODID:-//American Academy of Sleep Medicine – Association for Sleep Clinicians and Researchers - ECPv6.8.2//NONSGML v1.0//EN
CALSCALE:GREGORIAN
METHOD:PUBLISH
X-ORIGINAL-URL:https://aasm.org
X-WR-CALDESC:Events for American Academy of Sleep Medicine – Association for Sleep Clinicians and Researchers
REFRESH-INTERVAL;VALUE=DURATION:PT1H
X-Robots-Tag:noindex
X-PUBLISHED-TTL:PT1H
BEGIN:VTIMEZONE
TZID:America/New_York
BEGIN:DAYLIGHT
TZOFFSETFROM:-0500
TZOFFSETTO:-0400
TZNAME:EDT
DTSTART:20250309T070000
END:DAYLIGHT
BEGIN:STANDARD
TZOFFSETFROM:-0400
TZOFFSETTO:-0500
TZNAME:EST
DTSTART:20251102T060000
END:STANDARD
END:VTIMEZONE
BEGIN:VEVENT
DTSTART;TZID=America/New_York:20250207T130000
DTEND;TZID=America/New_York:20250207T140000
DTSTAMP:20260422T071901
CREATED:20250113T174927Z
LAST-MODIFIED:20250206T151936Z
UID:45426-1738933200-1738936800@aasm.org
SUMMARY:Webinar: Beyond the Wrist - Actigraphy-Based Wearables in Sleep Medicine
DESCRIPTION:This is a members-only webinar. Please log in or sign up to continue. \nActigraphy is an essential tool in sleep medicine\, particularly for objectively evaluating sleep-wake patterns and aiding in the diagnosis and treatment monitoring of sleep disorders. Actigraphy-based wearables have evolved significantly in recent years in both capabilities and available sensors. These advancements come with benefits and challenges for clinicians and researchers in choosing a device for clinical or research uses\, data management\, costs\, and in interpreting results for patients. Increasingly\, commercial wearables are gaining medical clearance for physiologic monitoring and sleep-related indications. In this webinar\, members of the Emerging Technology Committee discuss available actigraphy devices\, considerations when choosing a device\, and the future of wearables for sleep-related and monitoring indications\, with implications for sleep medicine practitioners.  \nView Faculty and Planner Disclosures \nContinuing Education \nContinuing Medical Education\nThe American Academy of Sleep Medicine is accredited by the Accreditation Council for Continuing Medical Education (ACCME) to provide continuing medical education for physicians. \nThe AMA Council on Medical Education mandates that accredited providers only offer AMA PRA Category 1 Credits™ to physicians. Non-physicians will be provided a letter of attendance indicating the number of AMA PRA Category 1 Credits™ awarded for the sessions they attended. \nAASM designates these live activities for: AASM Committees Presents- Beyond the Wrist – Actigraphy-Based Wearables in Sleep Medicine \nA maximum of 1.00 AMA PRA Category 1 Credits™ \nPhysicians should claim only the credit commensurate with the extent of their participation in the activity. \nContinuing Education Credit (CECS) For Sleep Technologists \nThis activity has been approved by the American Academy of Sleep Medicine for: AASM Committees Presents- Beyond the Wrist – Actigraphy-Based Wearables in Sleep Medicine \nA maximum of 1.00 CECs for Sleep Technologists \nIndividuals should only claim those credits earned as a result of this activity. \nMaintenance of Certification (MOC) \nSuccessful completion of this CME activity\, which includes participation in the evaluation component\, enables the participant to earn up to: \n\n1.00 Medical Knowledge MOC points in the American Board of Internal Medicine’s (ABIM) Maintenance of Certification (MOC) program;\n1.00 MOC points in the American Board of Pediatrics’ (ABP) Maintenance of Certification (MOC) program; and\n1.00 annual part II self-assessment credit in the American Board of Otolaryngology – Head and Neck Surgery’s Continuing Certification program (formerly known as MOC).\n\n\n\n\n    \n    Login and Register Page\n    \n\n\n\n    \n        Log In\n        Join Today\n    \n\n    \n        If you're already logged in and still cannot access this content\, you may need to renew your membership.
URL:https://aasm.org/event/beyond-the-wrist-actigraphy-based-wearables-in-sleep-medicine/
LOCATION:Online
CATEGORIES:Webinar
ATTACH;FMTTYPE=image/png:https://aasm.org/wp-content/uploads/2025/01/AASM_Commitees_beyond-the-wrist_AASM-event_790x480.png
END:VEVENT
BEGIN:VEVENT
DTSTART;TZID=America/New_York:20250205T130000
DTEND;TZID=America/New_York:20250205T133000
DTSTAMP:20260422T071901
CREATED:20250124T145102Z
LAST-MODIFIED:20250212T214329Z
UID:45558-1738760400-1738762200@aasm.org
SUMMARY:Webinar: How to Become a Volunteer
DESCRIPTION:
URL:https://aasm.org/event/webinar-call-for-volunteers/
LOCATION:Online
CATEGORIES:Webinar
ATTACH;FMTTYPE=image/png:https://aasm.org/wp-content/uploads/2025/01/AASM_Membership_24-25_aasm_event_790x480.png
END:VEVENT
END:VCALENDAR