BEGIN:VCALENDAR
VERSION:2.0
PRODID:-//American Academy of Sleep Medicine – Association for Sleep Clinicians and Researchers - ECPv6.8.2//NONSGML v1.0//EN
CALSCALE:GREGORIAN
METHOD:PUBLISH
X-ORIGINAL-URL:https://aasm.org
X-WR-CALDESC:Events for American Academy of Sleep Medicine – Association for Sleep Clinicians and Researchers
REFRESH-INTERVAL;VALUE=DURATION:PT1H
X-Robots-Tag:noindex
X-PUBLISHED-TTL:PT1H
BEGIN:VTIMEZONE
TZID:America/New_York
BEGIN:DAYLIGHT
TZOFFSETFROM:-0500
TZOFFSETTO:-0400
TZNAME:EDT
DTSTART:20260308T070000
END:DAYLIGHT
BEGIN:STANDARD
TZOFFSETFROM:-0400
TZOFFSETTO:-0500
TZNAME:EST
DTSTART:20261101T060000
END:STANDARD
END:VTIMEZONE
BEGIN:VEVENT
DTSTART;TZID=America/New_York:20260422T130000
DTEND;TZID=America/New_York:20260422T140000
DTSTAMP:20260425T134439
CREATED:20260409T205540Z
LAST-MODIFIED:20260422T211154Z
UID:51546-1776862800-1776866400@aasm.org
SUMMARY:Obstructive Sleep Apnea in Women: What Clinicians Need to Know
DESCRIPTION:Obstructive sleep apnea (OSA) in women is common\, underrecognized\, and often presents differently than in men—leading to delayed diagnosis and suboptimal care. Join us for an engaging session that explores sex‑specific differences in OSA diagnosis and management\, with a focused look at how pregnancy and menopause influence risk\, symptoms\, and clinical decision‑making. Gain practical\, evidence‑based insights to better recognize and manage OSA in female patients across key life stages. \nModerator: \nMihaela H. Bazalakova\, MD \nSpeakers: \nSushmita Pamidi\, MD\nLouise O’Brien\, PhD\, MS \nView Faculty and Planner Disclosures \nView Continuing Education Information
URL:https://aasm.org/event/obstructive-sleep-apnea-in-women-what-clinicians-need-to-know/
LOCATION:Online
ATTACH;FMTTYPE=image/png:https://aasm.org/wp-content/uploads/2026/03/Womens_Sleep_Health_Webinar_Series_aasm_event.png
END:VEVENT
END:VCALENDAR