BEGIN:VCALENDAR
VERSION:2.0
PRODID:-//American Academy of Sleep Medicine – Association for Sleep Clinicians and Researchers - ECPv6.8.2//NONSGML v1.0//EN
CALSCALE:GREGORIAN
METHOD:PUBLISH
X-ORIGINAL-URL:https://aasm.org
X-WR-CALDESC:Events for American Academy of Sleep Medicine – Association for Sleep Clinicians and Researchers
REFRESH-INTERVAL;VALUE=DURATION:PT1H
X-Robots-Tag:noindex
X-PUBLISHED-TTL:PT1H
BEGIN:VTIMEZONE
TZID:America/Los_Angeles
BEGIN:DAYLIGHT
TZOFFSETFROM:-0800
TZOFFSETTO:-0700
TZNAME:PDT
DTSTART:20250309T100000
END:DAYLIGHT
BEGIN:STANDARD
TZOFFSETFROM:-0700
TZOFFSETTO:-0800
TZNAME:PST
DTSTART:20251102T090000
END:STANDARD
END:VTIMEZONE
BEGIN:VEVENT
DTSTART;TZID=America/Los_Angeles:20250608T080000
DTEND;TZID=America/Los_Angeles:20250611T170000
DTSTAMP:20260421T171820
CREATED:20221214T215239Z
LAST-MODIFIED:20250606T185743Z
UID:34511-1749369600-1749661200@aasm.org
SUMMARY:SLEEP 2025
DESCRIPTION:Join us in Seattle for SLEEP 2025\, the 39th annual meeting of the Associated Professional Sleep Societies\, LLC (APSS)\, a joint venture of the American Academy of Sleep Medicine (AASM) and the Sleep Research Society (SRS). Ticketed postgraduate courses will be available Saturday and Sunday\, June 7 and 8\, and the general session will take place Sunday through Wednesday\, June 8 to 11. Join us for the premier meeting in clinical sleep medicine and sleep and circadian science! \nLearn More
URL:https://aasm.org/event/sleep-2025/
LOCATION:Seattle Convention Center\, 705 Pike St.\, Seattle\, WA\, 98101\, United States
ATTACH;FMTTYPE=image/jpeg:https://aasm.org/wp-content/uploads/2022/12/events_event_790x480_SLEEP2025.jpg
ORGANIZER;CN="APSS":MAILTO:info@sleepmeeting.org
END:VEVENT
END:VCALENDAR