BEGIN:VCALENDAR
VERSION:2.0
PRODID:-//American Academy of Sleep Medicine – Association for Sleep Clinicians and Researchers - ECPv6.8.2//NONSGML v1.0//EN
CALSCALE:GREGORIAN
METHOD:PUBLISH
X-WR-CALNAME:American Academy of Sleep Medicine – Association for Sleep Clinicians and Researchers
X-ORIGINAL-URL:https://aasm.org
X-WR-CALDESC:Events for American Academy of Sleep Medicine – Association for Sleep Clinicians and Researchers
REFRESH-INTERVAL;VALUE=DURATION:PT1H
X-Robots-Tag:noindex
X-PUBLISHED-TTL:PT1H
BEGIN:VTIMEZONE
TZID:America/New_York
BEGIN:DAYLIGHT
TZOFFSETFROM:-0500
TZOFFSETTO:-0400
TZNAME:EDT
DTSTART:20260308T070000
END:DAYLIGHT
BEGIN:STANDARD
TZOFFSETFROM:-0400
TZOFFSETTO:-0500
TZNAME:EST
DTSTART:20261101T060000
END:STANDARD
END:VTIMEZONE
BEGIN:VEVENT
DTSTART;TZID=America/New_York:20260220T080000
DTEND;TZID=America/New_York:20260222T121500
DTSTAMP:20260422T124112
CREATED:20240702T180013Z
LAST-MODIFIED:20260217T154404Z
UID:38947-1771574400-1771762500@aasm.org
SUMMARY:Sleep Medicine Trends 2026
DESCRIPTION:Sleep Medicine Trends is the premier educational event for sleep medicine clinicians. Join colleagues and subject matter experts to explore new strategies for patient care while learning about the emerging technologies and innovations that are making an impact on clinical sleep medicine. \nWho Should Attend? \nSleep Medicine Trends is ideal for physicians\, advanced practice providers\, and other health care professionals involved in the diagnosis and management of sleep disorders. Learn from an expert faculty and network with colleagues from across the country to gain clinical insights that will help you adapt and thrive while improving patient care. \nLearn More
URL:https://aasm.org/event/sleep-medicine-trends-2026/
LOCATION:Loews Atlanta Hotel\, 1065 Peachtree St. NE\, Atlanta\, GA\, 30309\, United States
ATTACH;FMTTYPE=image/png:https://aasm.org/wp-content/uploads/2025/10/Trends-2026_event_790x480-UPDATED.png
ORGANIZER;CN="AASM":MAILTO:courses@aasm.org
END:VEVENT
END:VCALENDAR